BEGIN:VCALENDAR
VERSION:2.0
PRODID:-//Gravel Springs Lutheran Church - ECPv6.15.13.1//NONSGML v1.0//EN
CALSCALE:GREGORIAN
METHOD:PUBLISH
X-ORIGINAL-URL:https://gravelspringslutheran.org
X-WR-CALDESC:Events for Gravel Springs Lutheran Church
REFRESH-INTERVAL;VALUE=DURATION:PT1H
X-Robots-Tag:noindex
X-PUBLISHED-TTL:PT1H
BEGIN:VTIMEZONE
TZID:America/New_York
BEGIN:DAYLIGHT
TZOFFSETFROM:-0500
TZOFFSETTO:-0400
TZNAME:EDT
DTSTART:20240310T070000
END:DAYLIGHT
BEGIN:STANDARD
TZOFFSETFROM:-0400
TZOFFSETTO:-0500
TZNAME:EST
DTSTART:20241103T060000
END:STANDARD
BEGIN:DAYLIGHT
TZOFFSETFROM:-0500
TZOFFSETTO:-0400
TZNAME:EDT
DTSTART:20250309T070000
END:DAYLIGHT
BEGIN:STANDARD
TZOFFSETFROM:-0400
TZOFFSETTO:-0500
TZNAME:EST
DTSTART:20251102T060000
END:STANDARD
BEGIN:DAYLIGHT
TZOFFSETFROM:-0500
TZOFFSETTO:-0400
TZNAME:EDT
DTSTART:20260308T070000
END:DAYLIGHT
BEGIN:STANDARD
TZOFFSETFROM:-0400
TZOFFSETTO:-0500
TZNAME:EST
DTSTART:20261101T060000
END:STANDARD
BEGIN:DAYLIGHT
TZOFFSETFROM:-0500
TZOFFSETTO:-0400
TZNAME:EDT
DTSTART:20270314T070000
END:DAYLIGHT
BEGIN:STANDARD
TZOFFSETFROM:-0400
TZOFFSETTO:-0500
TZNAME:EST
DTSTART:20271107T060000
END:STANDARD
END:VTIMEZONE
BEGIN:VEVENT
DTSTART;TZID=America/New_York:20251224T210000
DTEND;TZID=America/New_York:20251224T220000
DTSTAMP:20260422T182959
CREATED:20251224T125425Z
LAST-MODIFIED:20251224T125425Z
UID:893-1766610000-1766613600@gravelspringslutheran.org
SUMMARY:Candlelight Service with Holy Communion
DESCRIPTION:Christmas Eve Worship with Holy Communion & Candlelight Service at Gravel Springs Lutheran Church
URL:https://gravelspringslutheran.org/event/candlelight-service-with-holy-communion-2/
END:VEVENT
BEGIN:VEVENT
DTSTART;TZID=America/New_York:20251228T090000
DTEND;TZID=America/New_York:20251228T100000
DTSTAMP:20260422T182959
CREATED:20251224T125539Z
LAST-MODIFIED:20251224T125604Z
UID:895-1766912400-1766916000@gravelspringslutheran.org
SUMMARY:Lessons & Carols worship
DESCRIPTION:Lessons and Carols worship at Gravel Springs Lutheran Church
URL:https://gravelspringslutheran.org/event/lessons-carols-worship/
END:VEVENT
BEGIN:VEVENT
DTSTART;TZID=America/New_York:20260405T063000
DTEND;TZID=America/New_York:20260405T073000
DTSTAMP:20260422T182959
CREATED:20260405T001201Z
LAST-MODIFIED:20260405T001236Z
UID:1016-1775370600-1775374200@gravelspringslutheran.org
SUMMARY:Easter sunrise with Holy Communion @ 6:30am at GS
DESCRIPTION:Easter sunrise with Holy Communion @ 6:30am at Gravel Springs Lutheran Church.   Breakfast following.
URL:https://gravelspringslutheran.org/event/easter-sunrise-with-holy-communion-630am-at-gs/
LOCATION:Gravel Springs\, 1870 S Pifer Rd\, Star Tannery\, VA\, 22654\, United States
END:VEVENT
BEGIN:VEVENT
DTSTART;TZID=America/New_York:20260405T090000
DTEND;TZID=America/New_York:20260405T100000
DTSTAMP:20260422T182959
CREATED:20260405T001329Z
LAST-MODIFIED:20260405T001329Z
UID:1019-1775379600-1775383200@gravelspringslutheran.org
SUMMARY:Worship with Holy Communion at GS – 9am
DESCRIPTION:Worship with Holy Communion at Gravel Springs Lutheran Church – 9am
URL:https://gravelspringslutheran.org/event/worship-with-holy-communion-at-gs-9am/
END:VEVENT
END:VCALENDAR