BEGIN:VCALENDAR
VERSION:2.0
PRODID:-//Gravel Springs Lutheran Church - ECPv6.15.13.1//NONSGML v1.0//EN
CALSCALE:GREGORIAN
METHOD:PUBLISH
X-WR-CALNAME:Gravel Springs Lutheran Church
X-ORIGINAL-URL:https://gravelspringslutheran.org
X-WR-CALDESC:Events for Gravel Springs Lutheran Church
REFRESH-INTERVAL;VALUE=DURATION:PT1H
X-Robots-Tag:noindex
X-PUBLISHED-TTL:PT1H
BEGIN:VTIMEZONE
TZID:UTC
BEGIN:STANDARD
TZOFFSETFROM:+0000
TZOFFSETTO:+0000
TZNAME:UTC
DTSTART:20180101T000000
END:STANDARD
END:VTIMEZONE
BEGIN:VEVENT
DTSTART;TZID=UTC:20191013T090000
DTEND;TZID=UTC:20191013T090000
DTSTAMP:20260422T184535
CREATED:20190901T015347Z
LAST-MODIFIED:20190901T015347Z
UID:383-1570957200-1570957200@gravelspringslutheran.org
SUMMARY:Worship Service
DESCRIPTION:
URL:https://gravelspringslutheran.org/event/worship-service-17/
END:VEVENT
BEGIN:VEVENT
DTSTART;TZID=UTC:20191013T000000
DTEND;TZID=UTC:20191013T000000
DTSTAMP:20260422T184535
CREATED:20190901T015348Z
LAST-MODIFIED:20190901T015348Z
UID:385-1570924800-1570924800@gravelspringslutheran.org
SUMMARY:Cookies for College
DESCRIPTION:
URL:https://gravelspringslutheran.org/event/cookies-for-college-7/
END:VEVENT
BEGIN:VEVENT
DTSTART;TZID=UTC:20191006T101500
DTEND;TZID=UTC:20191006T101500
DTSTAMP:20260422T184535
CREATED:20190901T015346Z
LAST-MODIFIED:20190901T015346Z
UID:382-1570356900-1570356900@gravelspringslutheran.org
SUMMARY:Confirmation Class
DESCRIPTION:
URL:https://gravelspringslutheran.org/event/confirmation-class/
END:VEVENT
BEGIN:VEVENT
DTSTART;TZID=UTC:20191006T101500
DTEND;TZID=UTC:20191006T101500
DTSTAMP:20260422T184535
CREATED:20190901T015345Z
LAST-MODIFIED:20190901T015345Z
UID:381-1570356900-1570356900@gravelspringslutheran.org
SUMMARY:First Sunday Fellowship
DESCRIPTION:
URL:https://gravelspringslutheran.org/event/first-sunday-fellowship-2/
END:VEVENT
BEGIN:VEVENT
DTSTART;TZID=UTC:20191006T101500
DTEND;TZID=UTC:20191006T101500
DTSTAMP:20260422T184535
CREATED:20190901T015344Z
LAST-MODIFIED:20190901T015344Z
UID:380-1570356900-1570356900@gravelspringslutheran.org
SUMMARY:Sunday School
DESCRIPTION:
URL:https://gravelspringslutheran.org/event/sunday-school-19/
END:VEVENT
BEGIN:VEVENT
DTSTART;TZID=UTC:20191006T090000
DTEND;TZID=UTC:20191006T090000
DTSTAMP:20260422T184535
CREATED:20190901T015343Z
LAST-MODIFIED:20190901T015343Z
UID:379-1570352400-1570352400@gravelspringslutheran.org
SUMMARY:Worship Service with Holy Communion
DESCRIPTION:
URL:https://gravelspringslutheran.org/event/worship-service-with-holy-communion-12/
END:VEVENT
BEGIN:VEVENT
DTSTART;TZID=UTC:20191001T180000
DTEND;TZID=UTC:20191001T180000
DTSTAMP:20260422T184535
CREATED:20190901T015343Z
LAST-MODIFIED:20190901T015343Z
UID:378-1569952800-1569952800@gravelspringslutheran.org
SUMMARY:Gravel Spring Council Meeting
DESCRIPTION:
URL:https://gravelspringslutheran.org/event/gravel-spring-council-meeting-2/
END:VEVENT
BEGIN:VEVENT
DTSTART;TZID=UTC:20190929T101500
DTEND;TZID=UTC:20190929T101500
DTSTAMP:20260422T184535
CREATED:20190901T015342Z
LAST-MODIFIED:20190901T015342Z
UID:377-1569752100-1569752100@gravelspringslutheran.org
SUMMARY:Sunday School
DESCRIPTION:
URL:https://gravelspringslutheran.org/event/sunday-school-18/
END:VEVENT
BEGIN:VEVENT
DTSTART;TZID=UTC:20190929T090000
DTEND;TZID=UTC:20190929T090000
DTSTAMP:20260422T184535
CREATED:20190901T015335Z
LAST-MODIFIED:20190901T015335Z
UID:376-1569747600-1569747600@gravelspringslutheran.org
SUMMARY:Worship Service
DESCRIPTION:
URL:https://gravelspringslutheran.org/event/worship-service-16/
END:VEVENT
BEGIN:VEVENT
DTSTART;TZID=UTC:20190922T100000
DTEND;TZID=UTC:20190922T100000
DTSTAMP:20260422T184535
CREATED:20190901T015334Z
LAST-MODIFIED:20190901T015334Z
UID:374-1569146400-1569146400@gravelspringslutheran.org
SUMMARY:Homecoming Worship Service
DESCRIPTION:
URL:https://gravelspringslutheran.org/event/homecoming-worship-service/
END:VEVENT
BEGIN:VEVENT
DTSTART;TZID=UTC:20190922T000000
DTEND;TZID=UTC:20190922T000000
DTSTAMP:20260422T184535
CREATED:20190901T015335Z
LAST-MODIFIED:20190901T015335Z
UID:375-1569110400-1569110400@gravelspringslutheran.org
SUMMARY:Silent Auction Ends
DESCRIPTION:
URL:https://gravelspringslutheran.org/event/silent-auction-ends/
END:VEVENT
BEGIN:VEVENT
DTSTART;TZID=UTC:20190921T180000
DTEND;TZID=UTC:20190921T180000
DTSTAMP:20260422T184535
CREATED:20190901T015334Z
LAST-MODIFIED:20190901T015334Z
UID:373-1569088800-1569088800@gravelspringslutheran.org
SUMMARY:Mocha and a Message and Bingo at St. John's
DESCRIPTION:
URL:https://gravelspringslutheran.org/event/mocha-and-a-message-and-bingo-at-st-johns-3/
END:VEVENT
BEGIN:VEVENT
DTSTART;TZID=UTC:20190917T190000
DTEND;TZID=UTC:20190917T190000
DTSTAMP:20260422T184535
CREATED:20190901T015333Z
LAST-MODIFIED:20190901T015333Z
UID:372-1568746800-1568746800@gravelspringslutheran.org
SUMMARY:Ladies Aid Meeting
DESCRIPTION:
URL:https://gravelspringslutheran.org/event/ladies-aid-meeting-5/
END:VEVENT
BEGIN:VEVENT
DTSTART;TZID=UTC:20190915T101500
DTEND;TZID=UTC:20190915T101500
DTSTAMP:20260422T184535
CREATED:20190901T015331Z
LAST-MODIFIED:20190901T015331Z
UID:369-1568542500-1568542500@gravelspringslutheran.org
SUMMARY:Sunday School
DESCRIPTION:
URL:https://gravelspringslutheran.org/event/sunday-school-17/
END:VEVENT
BEGIN:VEVENT
DTSTART;TZID=UTC:20190915T090000
DTEND;TZID=UTC:20190915T090000
DTSTAMP:20260422T184535
CREATED:20190901T015330Z
LAST-MODIFIED:20190901T015330Z
UID:368-1568538000-1568538000@gravelspringslutheran.org
SUMMARY:Blessing of the Animals Service
DESCRIPTION:
URL:https://gravelspringslutheran.org/event/blessing-of-the-animals-service/
END:VEVENT
BEGIN:VEVENT
DTSTART;TZID=UTC:20190915T000000
DTEND;TZID=UTC:20190915T000000
DTSTAMP:20260422T184535
CREATED:20190901T015331Z
LAST-MODIFIED:20190901T015331Z
UID:370-1568505600-1568505600@gravelspringslutheran.org
SUMMARY:Cookies for College
DESCRIPTION:
URL:https://gravelspringslutheran.org/event/cookies-for-college-6/
END:VEVENT
BEGIN:VEVENT
DTSTART;TZID=UTC:20190915T000000
DTEND;TZID=UTC:20190915T000000
DTSTAMP:20260422T184535
CREATED:20190901T015331Z
LAST-MODIFIED:20190901T015331Z
UID:371-1568505600-1568505600@gravelspringslutheran.org
SUMMARY:Noisy Collection
DESCRIPTION:
URL:https://gravelspringslutheran.org/event/noisy-collection-5/
END:VEVENT
BEGIN:VEVENT
DTSTART;TZID=UTC:20190908T103000
DTEND;TZID=UTC:20190908T103000
DTSTAMP:20260422T184535
CREATED:20190901T015330Z
LAST-MODIFIED:20190901T015330Z
UID:367-1567938600-1567938600@gravelspringslutheran.org
SUMMARY:Grandparent's Day Reception
DESCRIPTION:
URL:https://gravelspringslutheran.org/event/grandparents-day-reception/
END:VEVENT
BEGIN:VEVENT
DTSTART;TZID=UTC:20190908T101500
DTEND;TZID=UTC:20190908T101500
DTSTAMP:20260422T184535
CREATED:20190901T015327Z
LAST-MODIFIED:20190901T015327Z
UID:366-1567937700-1567937700@gravelspringslutheran.org
SUMMARY:Sunday School
DESCRIPTION:
URL:https://gravelspringslutheran.org/event/sunday-school-16/
END:VEVENT
BEGIN:VEVENT
DTSTART;TZID=UTC:20190908T090000
DTEND;TZID=UTC:20190908T090000
DTSTAMP:20260422T184535
CREATED:20190901T015326Z
LAST-MODIFIED:20190901T015326Z
UID:365-1567933200-1567933200@gravelspringslutheran.org
SUMMARY:Worship Service
DESCRIPTION:
URL:https://gravelspringslutheran.org/event/worship-service-15/
END:VEVENT
BEGIN:VEVENT
DTSTART;TZID=UTC:20190903T180000
DTEND;TZID=UTC:20190903T180000
DTSTAMP:20260422T184535
CREATED:20190901T015326Z
LAST-MODIFIED:20190901T015326Z
UID:364-1567533600-1567533600@gravelspringslutheran.org
SUMMARY:Gravel Spring Council Meeting
DESCRIPTION:
URL:https://gravelspringslutheran.org/event/gravel-spring-council-meeting/
END:VEVENT
BEGIN:VEVENT
DTSTART;TZID=UTC:20190901T113000
DTEND;TZID=UTC:20190901T113000
DTSTAMP:20260422T184535
CREATED:20190901T015325Z
LAST-MODIFIED:20190901T015325Z
UID:363-1567337400-1567337400@gravelspringslutheran.org
SUMMARY:Fellowship Lunch
DESCRIPTION:
URL:https://gravelspringslutheran.org/event/fellowship-lunch/
END:VEVENT
BEGIN:VEVENT
DTSTART;TZID=UTC:20190901T103000
DTEND;TZID=UTC:20190901T103000
DTSTAMP:20260422T184535
CREATED:20190901T015325Z
LAST-MODIFIED:20190901T015325Z
UID:362-1567333800-1567333800@gravelspringslutheran.org
SUMMARY:Joint Outdoor Worship
DESCRIPTION:
URL:https://gravelspringslutheran.org/event/joint-outdoor-worship/
END:VEVENT
BEGIN:VEVENT
DTSTART;TZID=UTC:20190825T101500
DTEND;TZID=UTC:20190825T101500
DTSTAMP:20260422T184535
CREATED:20190901T001305Z
LAST-MODIFIED:20190901T001305Z
UID:359-1566728100-1566728100@gravelspringslutheran.org
SUMMARY:Sunday School
DESCRIPTION:
URL:https://gravelspringslutheran.org/event/sunday-school-15/
END:VEVENT
BEGIN:VEVENT
DTSTART;TZID=UTC:20190825T090000
DTEND;TZID=UTC:20190825T090000
DTSTAMP:20260422T184535
CREATED:20190901T001305Z
LAST-MODIFIED:20190901T001305Z
UID:358-1566723600-1566723600@gravelspringslutheran.org
SUMMARY:Worship Service
DESCRIPTION:
URL:https://gravelspringslutheran.org/event/worship-service-14/
END:VEVENT
BEGIN:VEVENT
DTSTART;TZID=UTC:20190818T101500
DTEND;TZID=UTC:20190818T101500
DTSTAMP:20260422T184535
CREATED:20190901T001302Z
LAST-MODIFIED:20190901T001302Z
UID:355-1566123300-1566123300@gravelspringslutheran.org
SUMMARY:Sunday School
DESCRIPTION:
URL:https://gravelspringslutheran.org/event/sunday-school-14/
END:VEVENT
BEGIN:VEVENT
DTSTART;TZID=UTC:20190818T090000
DTEND;TZID=UTC:20190818T090000
DTSTAMP:20260422T184535
CREATED:20190901T001302Z
LAST-MODIFIED:20190901T001302Z
UID:354-1566118800-1566118800@gravelspringslutheran.org
SUMMARY:Worship Service
DESCRIPTION:
URL:https://gravelspringslutheran.org/event/worship-service-13/
END:VEVENT
BEGIN:VEVENT
DTSTART;TZID=UTC:20190818T000000
DTEND;TZID=UTC:20190818T000000
DTSTAMP:20260422T184535
CREATED:20190901T001305Z
LAST-MODIFIED:20190901T001305Z
UID:357-1566086400-1566086400@gravelspringslutheran.org
SUMMARY:Noisy Collection
DESCRIPTION:
URL:https://gravelspringslutheran.org/event/noisy-collection-4/
END:VEVENT
BEGIN:VEVENT
DTSTART;TZID=UTC:20190818T000000
DTEND;TZID=UTC:20190818T000000
DTSTAMP:20260422T184535
CREATED:20190901T001304Z
LAST-MODIFIED:20190901T001304Z
UID:356-1566086400-1566086400@gravelspringslutheran.org
SUMMARY:Cookies for College
DESCRIPTION:
URL:https://gravelspringslutheran.org/event/cookies-for-college-5/
END:VEVENT
BEGIN:VEVENT
DTSTART;TZID=UTC:20190811T101500
DTEND;TZID=UTC:20190811T101500
DTSTAMP:20260422T184535
CREATED:20190901T001301Z
LAST-MODIFIED:20190901T001301Z
UID:353-1565518500-1565518500@gravelspringslutheran.org
SUMMARY:Sunday School
DESCRIPTION:
URL:https://gravelspringslutheran.org/event/sunday-school-13/
END:VEVENT
END:VCALENDAR