BEGIN:VCALENDAR
VERSION:2.0
PRODID:-//Gravel Springs Lutheran Church - ECPv6.15.13.1//NONSGML v1.0//EN
CALSCALE:GREGORIAN
METHOD:PUBLISH
X-WR-CALNAME:Gravel Springs Lutheran Church
X-ORIGINAL-URL:https://gravelspringslutheran.org
X-WR-CALDESC:Events for Gravel Springs Lutheran Church
REFRESH-INTERVAL;VALUE=DURATION:PT1H
X-Robots-Tag:noindex
X-PUBLISHED-TTL:PT1H
BEGIN:VTIMEZONE
TZID:UTC
BEGIN:STANDARD
TZOFFSETFROM:+0000
TZOFFSETTO:+0000
TZNAME:UTC
DTSTART:20180101T000000
END:STANDARD
END:VTIMEZONE
BEGIN:VEVENT
DTSTART;TZID=UTC:20190903T180000
DTEND;TZID=UTC:20190903T180000
DTSTAMP:20260422T203407
CREATED:20190901T015326Z
LAST-MODIFIED:20190901T015326Z
UID:364-1567533600-1567533600@gravelspringslutheran.org
SUMMARY:Gravel Spring Council Meeting
DESCRIPTION:
URL:https://gravelspringslutheran.org/event/gravel-spring-council-meeting/
END:VEVENT
BEGIN:VEVENT
DTSTART;TZID=UTC:20190901T113000
DTEND;TZID=UTC:20190901T113000
DTSTAMP:20260422T203407
CREATED:20190901T015325Z
LAST-MODIFIED:20190901T015325Z
UID:363-1567337400-1567337400@gravelspringslutheran.org
SUMMARY:Fellowship Lunch
DESCRIPTION:
URL:https://gravelspringslutheran.org/event/fellowship-lunch/
END:VEVENT
BEGIN:VEVENT
DTSTART;TZID=UTC:20190901T103000
DTEND;TZID=UTC:20190901T103000
DTSTAMP:20260422T203407
CREATED:20190901T015325Z
LAST-MODIFIED:20190901T015325Z
UID:362-1567333800-1567333800@gravelspringslutheran.org
SUMMARY:Joint Outdoor Worship
DESCRIPTION:
URL:https://gravelspringslutheran.org/event/joint-outdoor-worship/
END:VEVENT
BEGIN:VEVENT
DTSTART;TZID=UTC:20190825T101500
DTEND;TZID=UTC:20190825T101500
DTSTAMP:20260422T203407
CREATED:20190901T001305Z
LAST-MODIFIED:20190901T001305Z
UID:359-1566728100-1566728100@gravelspringslutheran.org
SUMMARY:Sunday School
DESCRIPTION:
URL:https://gravelspringslutheran.org/event/sunday-school-15/
END:VEVENT
BEGIN:VEVENT
DTSTART;TZID=UTC:20190825T090000
DTEND;TZID=UTC:20190825T090000
DTSTAMP:20260422T203407
CREATED:20190901T001305Z
LAST-MODIFIED:20190901T001305Z
UID:358-1566723600-1566723600@gravelspringslutheran.org
SUMMARY:Worship Service
DESCRIPTION:
URL:https://gravelspringslutheran.org/event/worship-service-14/
END:VEVENT
BEGIN:VEVENT
DTSTART;TZID=UTC:20190818T101500
DTEND;TZID=UTC:20190818T101500
DTSTAMP:20260422T203407
CREATED:20190901T001302Z
LAST-MODIFIED:20190901T001302Z
UID:355-1566123300-1566123300@gravelspringslutheran.org
SUMMARY:Sunday School
DESCRIPTION:
URL:https://gravelspringslutheran.org/event/sunday-school-14/
END:VEVENT
BEGIN:VEVENT
DTSTART;TZID=UTC:20190818T090000
DTEND;TZID=UTC:20190818T090000
DTSTAMP:20260422T203407
CREATED:20190901T001302Z
LAST-MODIFIED:20190901T001302Z
UID:354-1566118800-1566118800@gravelspringslutheran.org
SUMMARY:Worship Service
DESCRIPTION:
URL:https://gravelspringslutheran.org/event/worship-service-13/
END:VEVENT
BEGIN:VEVENT
DTSTART;TZID=UTC:20190818T000000
DTEND;TZID=UTC:20190818T000000
DTSTAMP:20260422T203407
CREATED:20190901T001305Z
LAST-MODIFIED:20190901T001305Z
UID:357-1566086400-1566086400@gravelspringslutheran.org
SUMMARY:Noisy Collection
DESCRIPTION:
URL:https://gravelspringslutheran.org/event/noisy-collection-4/
END:VEVENT
BEGIN:VEVENT
DTSTART;TZID=UTC:20190818T000000
DTEND;TZID=UTC:20190818T000000
DTSTAMP:20260422T203407
CREATED:20190901T001304Z
LAST-MODIFIED:20190901T001304Z
UID:356-1566086400-1566086400@gravelspringslutheran.org
SUMMARY:Cookies for College
DESCRIPTION:
URL:https://gravelspringslutheran.org/event/cookies-for-college-5/
END:VEVENT
BEGIN:VEVENT
DTSTART;TZID=UTC:20190811T101500
DTEND;TZID=UTC:20190811T101500
DTSTAMP:20260422T203407
CREATED:20190901T001301Z
LAST-MODIFIED:20190901T001301Z
UID:353-1565518500-1565518500@gravelspringslutheran.org
SUMMARY:Sunday School
DESCRIPTION:
URL:https://gravelspringslutheran.org/event/sunday-school-13/
END:VEVENT
BEGIN:VEVENT
DTSTART;TZID=UTC:20190427T160000
DTEND;TZID=UTC:20190427T190000
DTSTAMP:20260422T203407
CREATED:20190310T043515Z
LAST-MODIFIED:20190310T043515Z
UID:270-1556380800-1556391600@gravelspringslutheran.org
SUMMARY:Fun for Youth and Adult Dinner and Bingo
DESCRIPTION: 
URL:https://gravelspringslutheran.org/event/fun-for-youth-and-adult-dinner-and-bingo/
END:VEVENT
BEGIN:VEVENT
DTSTART;TZID=UTC:20190421T090000
DTEND;TZID=UTC:20190421T101500
DTSTAMP:20260422T203407
CREATED:20190224T234046Z
LAST-MODIFIED:20190224T234046Z
UID:225-1555837200-1555841700@gravelspringslutheran.org
SUMMARY:Easter Worship Service with Holy Communion
DESCRIPTION: 
URL:https://gravelspringslutheran.org/event/easter-worship-service-with-holy-communion/
END:VEVENT
BEGIN:VEVENT
DTSTART;TZID=UTC:20190421T063000
DTEND;TZID=UTC:20190421T083000
DTSTAMP:20260422T203407
CREATED:20190224T233939Z
LAST-MODIFIED:20190224T233939Z
UID:223-1555828200-1555835400@gravelspringslutheran.org
SUMMARY:Easter Sunrise Service (followed with breakfast)
DESCRIPTION: 
URL:https://gravelspringslutheran.org/event/easter-sunrise-service-followed-with-breakfast/
END:VEVENT
BEGIN:VEVENT
DTSTART;TZID=UTC:20190419T190000
DTEND;TZID=UTC:20190419T203000
DTSTAMP:20260422T203407
CREATED:20190224T233830Z
LAST-MODIFIED:20190224T233830Z
UID:221-1555700400-1555705800@gravelspringslutheran.org
SUMMARY:Good Friday Service (at St. John's)
DESCRIPTION: 
URL:https://gravelspringslutheran.org/event/good-friday-service-at-st-johns/
END:VEVENT
BEGIN:VEVENT
DTSTART;TZID=UTC:20190418T190000
DTEND;TZID=UTC:20190418T203000
DTSTAMP:20260422T203407
CREATED:20190224T233701Z
LAST-MODIFIED:20190224T233701Z
UID:219-1555614000-1555619400@gravelspringslutheran.org
SUMMARY:Maundy Thursday Service
DESCRIPTION: 
URL:https://gravelspringslutheran.org/event/maundy-thursday-service/
END:VEVENT
BEGIN:VEVENT
DTSTART;TZID=UTC:20190416T190000
DTEND;TZID=UTC:20190416T200000
DTSTAMP:20260422T203407
CREATED:20190310T043253Z
LAST-MODIFIED:20190310T043253Z
UID:268-1555441200-1555444800@gravelspringslutheran.org
SUMMARY:Ladies Aid Meeting
DESCRIPTION: 
URL:https://gravelspringslutheran.org/event/ladies-aid-meeting-3/
END:VEVENT
BEGIN:VEVENT
DTSTART;TZID=UTC:20190414T101500
DTEND;TZID=UTC:20190414T110000
DTSTAMP:20260422T203407
CREATED:20190310T043648Z
LAST-MODIFIED:20190310T043648Z
UID:272-1555236900-1555239600@gravelspringslutheran.org
SUMMARY:Easter Egg Hunt
DESCRIPTION: 
URL:https://gravelspringslutheran.org/event/easter-egg-hunt/
END:VEVENT
BEGIN:VEVENT
DTSTART;TZID=UTC:20190414T090000
DTEND;TZID=UTC:20190414T101500
DTSTAMP:20260422T203407
CREATED:20190224T234310Z
LAST-MODIFIED:20190224T234310Z
UID:228-1555232400-1555236900@gravelspringslutheran.org
SUMMARY:Palm Sunday - Worship Service with Holy Communion
DESCRIPTION: 
URL:https://gravelspringslutheran.org/event/palm-sunday-worship-service-with-holy-communion/
END:VEVENT
BEGIN:VEVENT
DTSTART;TZID=UTC:20190407T090000
DTEND;TZID=UTC:20190407T101500
DTSTAMP:20260422T203407
CREATED:20190224T234400Z
LAST-MODIFIED:20190224T234400Z
UID:230-1554627600-1554632100@gravelspringslutheran.org
SUMMARY:Worship Service with Holy Communion
DESCRIPTION: 
URL:https://gravelspringslutheran.org/event/worship-service-with-holy-communion-6/
END:VEVENT
BEGIN:VEVENT
DTSTART;TZID=UTC:20190402T180000
DTEND;TZID=UTC:20190402T200000
DTSTAMP:20260422T203407
CREATED:20190224T233146Z
LAST-MODIFIED:20190224T233146Z
UID:215-1554228000-1554235200@gravelspringslutheran.org
SUMMARY:Gravel Springs Council Meeting
DESCRIPTION: 
URL:https://gravelspringslutheran.org/event/gravel-springs-council-meeting-2/
END:VEVENT
BEGIN:VEVENT
DTSTART;TZID=UTC:20190331T140000
DTEND;TZID=UTC:20190331T160000
DTSTAMP:20260422T203407
CREATED:20190224T233105Z
LAST-MODIFIED:20190224T233105Z
UID:213-1554040800-1554048000@gravelspringslutheran.org
SUMMARY:Baby Shower for Bowie Family
DESCRIPTION: 
URL:https://gravelspringslutheran.org/event/baby-shower-for-bowie-family/
END:VEVENT
BEGIN:VEVENT
DTSTART;TZID=UTC:20190331T090000
DTEND;TZID=UTC:20190331T101500
DTSTAMP:20260422T203407
CREATED:20190224T233004Z
LAST-MODIFIED:20190224T233004Z
UID:211-1554022800-1554027300@gravelspringslutheran.org
SUMMARY:Worship Service with Holy Communion
DESCRIPTION: 
URL:https://gravelspringslutheran.org/event/worship-service-with-holy-communion-5/
END:VEVENT
BEGIN:VEVENT
DTSTART;VALUE=DATE:20190331
DTEND;VALUE=DATE:20190401
DTSTAMP:20260422T203407
CREATED:20190224T232907Z
LAST-MODIFIED:20190224T232907Z
UID:209-1553990400-1554076799@gravelspringslutheran.org
SUMMARY:Bring a Friend Sunday
DESCRIPTION: 
URL:https://gravelspringslutheran.org/event/bring-a-friend-sunday/
END:VEVENT
BEGIN:VEVENT
DTSTART;TZID=UTC:20190324T090000
DTEND;TZID=UTC:20190324T101500
DTSTAMP:20260422T203407
CREATED:20190224T232755Z
LAST-MODIFIED:20190224T232755Z
UID:207-1553418000-1553422500@gravelspringslutheran.org
SUMMARY:Worship Service with Holy Communion
DESCRIPTION: 
URL:https://gravelspringslutheran.org/event/worship-service-with-holy-communion-4/
END:VEVENT
BEGIN:VEVENT
DTSTART;TZID=UTC:20190322T180000
DTEND;TZID=UTC:20190322T200000
DTSTAMP:20260422T203407
CREATED:20190224T232630Z
LAST-MODIFIED:20190224T233514Z
UID:205-1553277600-1553284800@gravelspringslutheran.org
SUMMARY:Fourth Friday Fun for Youth
DESCRIPTION: \nCome join us for dinner (hot dogs and chips)\, to color Easter eggs\, and devotions. \nRSVP to Denise at hanaluk97@gmail.com or 540-335-6492 by Wed. March 20th.\n 
URL:https://gravelspringslutheran.org/event/fourth-friday-fun-for-youth-2/
END:VEVENT
BEGIN:VEVENT
DTSTART;TZID=UTC:20190319T190000
DTEND;TZID=UTC:20190319T203000
DTSTAMP:20260422T203407
CREATED:20190224T232414Z
LAST-MODIFIED:20190224T232414Z
UID:203-1553022000-1553027400@gravelspringslutheran.org
SUMMARY:Ladies Aid Meeting
DESCRIPTION:Come join us for devotions\, fun activities\, and fellowship.
URL:https://gravelspringslutheran.org/event/ladies-aid-meeting-2/
END:VEVENT
BEGIN:VEVENT
DTSTART;TZID=UTC:20190317T090000
DTEND;TZID=UTC:20190317T101500
DTSTAMP:20260422T203407
CREATED:20190224T232306Z
LAST-MODIFIED:20190224T232306Z
UID:201-1552813200-1552817700@gravelspringslutheran.org
SUMMARY:Noisy Collection Sunday
DESCRIPTION:Bring loose change for our collection
URL:https://gravelspringslutheran.org/event/noisy-collection-sunday/
END:VEVENT
BEGIN:VEVENT
DTSTART;TZID=UTC:20190317T090000
DTEND;TZID=UTC:20190317T101500
DTSTAMP:20260422T203407
CREATED:20190224T232204Z
LAST-MODIFIED:20190224T232204Z
UID:199-1552813200-1552817700@gravelspringslutheran.org
SUMMARY:Worship Service with Holy Communion
DESCRIPTION: 
URL:https://gravelspringslutheran.org/event/worship-service-with-holy-communion-3/
END:VEVENT
BEGIN:VEVENT
DTSTART;TZID=UTC:20190316T163000
DTEND;TZID=UTC:20190316T183000
DTSTAMP:20260422T203407
CREATED:20190224T231921Z
LAST-MODIFIED:20190224T231921Z
UID:195-1552753800-1552761000@gravelspringslutheran.org
SUMMARY:St. Patrick's Day Dinner
DESCRIPTION:Free Will Donation \nCome and have the youth serve you dinner. \nMenu: \nMeatloaf\, Spaghetti\, Green Beans\, Mashed Potatoes\, Apple Sauce\, Bread\, Dessert\, and Drink
URL:https://gravelspringslutheran.org/event/st-patricks-day-dinner/
END:VEVENT
BEGIN:VEVENT
DTSTART;TZID=UTC:20190315T180000
DTEND;TZID=UTC:20190315T200000
DTSTAMP:20260422T203407
CREATED:20190224T231730Z
LAST-MODIFIED:20190224T231730Z
UID:193-1552672800-1552680000@gravelspringslutheran.org
SUMMARY:Youth - Set up for St. Patrick's Day Dinner
DESCRIPTION:Youth will setup and prep for our St. Patrick’s Day dinner to be held on Sat. Mar. 16th.
URL:https://gravelspringslutheran.org/event/youth-set-up-for-st-patricks-day-dinner/
END:VEVENT
END:VCALENDAR