BEGIN:VCALENDAR
VERSION:2.0
PRODID:-//Gravel Springs Lutheran Church - ECPv6.15.13.1//NONSGML v1.0//EN
CALSCALE:GREGORIAN
METHOD:PUBLISH
X-WR-CALNAME:Gravel Springs Lutheran Church
X-ORIGINAL-URL:https://gravelspringslutheran.org
X-WR-CALDESC:Events for Gravel Springs Lutheran Church
REFRESH-INTERVAL;VALUE=DURATION:PT1H
X-Robots-Tag:noindex
X-PUBLISHED-TTL:PT1H
BEGIN:VTIMEZONE
TZID:UTC
BEGIN:STANDARD
TZOFFSETFROM:+0000
TZOFFSETTO:+0000
TZNAME:UTC
DTSTART:20190101T000000
END:STANDARD
END:VTIMEZONE
BEGIN:VEVENT
DTSTART;TZID=UTC:20200421T190000
DTEND;TZID=UTC:20200421T190000
DTSTAMP:20260422T181028
CREATED:20200224T011759Z
LAST-MODIFIED:20200224T011759Z
UID:496-1587495600-1587495600@gravelspringslutheran.org
SUMMARY:Ladies Aid Meeting
DESCRIPTION:
URL:https://gravelspringslutheran.org/event/ladies-aid-meeting-11/
END:VEVENT
BEGIN:VEVENT
DTSTART;TZID=UTC:20200419T101500
DTEND;TZID=UTC:20200419T101500
DTSTAMP:20260422T181028
CREATED:20200224T011755Z
LAST-MODIFIED:20200224T011755Z
UID:493-1587291300-1587291300@gravelspringslutheran.org
SUMMARY:Sunday School
DESCRIPTION:
URL:https://gravelspringslutheran.org/event/sunday-school-45/
END:VEVENT
BEGIN:VEVENT
DTSTART;TZID=UTC:20200419T090000
DTEND;TZID=UTC:20200419T090000
DTSTAMP:20260422T181028
CREATED:20200224T011754Z
LAST-MODIFIED:20200224T011754Z
UID:492-1587286800-1587286800@gravelspringslutheran.org
SUMMARY:Worship Service
DESCRIPTION:
URL:https://gravelspringslutheran.org/event/worship-service-31/
END:VEVENT
BEGIN:VEVENT
DTSTART;TZID=UTC:20200419T000000
DTEND;TZID=UTC:20200419T000000
DTSTAMP:20260422T181028
CREATED:20200224T011755Z
LAST-MODIFIED:20200224T011755Z
UID:495-1587254400-1587254400@gravelspringslutheran.org
SUMMARY:Noisy Collection
DESCRIPTION:
URL:https://gravelspringslutheran.org/event/noisy-collection-12/
END:VEVENT
BEGIN:VEVENT
DTSTART;TZID=UTC:20200419T000000
DTEND;TZID=UTC:20200419T000000
DTSTAMP:20260422T181028
CREATED:20200224T011755Z
LAST-MODIFIED:20200224T011755Z
UID:494-1587254400-1587254400@gravelspringslutheran.org
SUMMARY:Cookies for College
DESCRIPTION:
URL:https://gravelspringslutheran.org/event/cookies-for-college-13/
END:VEVENT
BEGIN:VEVENT
DTSTART;TZID=UTC:20200412T090000
DTEND;TZID=UTC:20200412T090000
DTSTAMP:20260422T181028
CREATED:20200224T011753Z
LAST-MODIFIED:20200224T011753Z
UID:491-1586682000-1586682000@gravelspringslutheran.org
SUMMARY:Worship Service with Holy Communion
DESCRIPTION:
URL:https://gravelspringslutheran.org/event/worship-service-with-holy-communion-19/
END:VEVENT
BEGIN:VEVENT
DTSTART;TZID=UTC:20200412T073000
DTEND;TZID=UTC:20200412T073000
DTSTAMP:20260422T181028
CREATED:20200224T011751Z
LAST-MODIFIED:20200224T011751Z
UID:490-1586676600-1586676600@gravelspringslutheran.org
SUMMARY:Easter Breakfast
DESCRIPTION:
URL:https://gravelspringslutheran.org/event/easter-breakfast/
END:VEVENT
BEGIN:VEVENT
DTSTART;TZID=UTC:20200412T063000
DTEND;TZID=UTC:20200412T063000
DTSTAMP:20260422T181028
CREATED:20200224T011751Z
LAST-MODIFIED:20200224T011751Z
UID:489-1586673000-1586673000@gravelspringslutheran.org
SUMMARY:Easter Sunrise Service
DESCRIPTION:
URL:https://gravelspringslutheran.org/event/easter-sunrise-service/
END:VEVENT
BEGIN:VEVENT
DTSTART;TZID=UTC:20200412T000000
DTEND;TZID=UTC:20200412T000000
DTSTAMP:20260422T181028
CREATED:20200224T011751Z
LAST-MODIFIED:20200224T011751Z
UID:488-1586649600-1586649600@gravelspringslutheran.org
SUMMARY:Easter
DESCRIPTION:
URL:https://gravelspringslutheran.org/event/easter/
END:VEVENT
BEGIN:VEVENT
DTSTART;TZID=UTC:20200410T190000
DTEND;TZID=UTC:20200410T190000
DTSTAMP:20260422T181028
CREATED:20200224T011750Z
LAST-MODIFIED:20200224T011750Z
UID:487-1586545200-1586545200@gravelspringslutheran.org
SUMMARY:Good Friday Service at St. John's
DESCRIPTION:
URL:https://gravelspringslutheran.org/event/good-friday-service-at-st-johns-2/
END:VEVENT
BEGIN:VEVENT
DTSTART;TZID=UTC:20200409T190000
DTEND;TZID=UTC:20200409T190000
DTSTAMP:20260422T181028
CREATED:20200224T011750Z
LAST-MODIFIED:20200224T011750Z
UID:486-1586458800-1586458800@gravelspringslutheran.org
SUMMARY:Maundy Thursday Service
DESCRIPTION:
URL:https://gravelspringslutheran.org/event/maundy-thursday-service-2/
END:VEVENT
BEGIN:VEVENT
DTSTART;TZID=UTC:20200407T180000
DTEND;TZID=UTC:20200407T180000
DTSTAMP:20260422T181028
CREATED:20200224T011748Z
LAST-MODIFIED:20200224T011748Z
UID:485-1586282400-1586282400@gravelspringslutheran.org
SUMMARY:Council Meeting
DESCRIPTION:
URL:https://gravelspringslutheran.org/event/council-meeting-4/
END:VEVENT
BEGIN:VEVENT
DTSTART;TZID=UTC:20200405T101500
DTEND;TZID=UTC:20200405T101500
DTSTAMP:20260422T181028
CREATED:20200224T011748Z
LAST-MODIFIED:20200224T011748Z
UID:483-1586081700-1586081700@gravelspringslutheran.org
SUMMARY:Sunday School
DESCRIPTION:
URL:https://gravelspringslutheran.org/event/sunday-school-44/
END:VEVENT
BEGIN:VEVENT
DTSTART;TZID=UTC:20200405T101500
DTEND;TZID=UTC:20200405T101500
DTSTAMP:20260422T181028
CREATED:20200224T011747Z
LAST-MODIFIED:20200224T011747Z
UID:482-1586081700-1586081700@gravelspringslutheran.org
SUMMARY:First Sunday Fellowship Gathering
DESCRIPTION:
URL:https://gravelspringslutheran.org/event/first-sunday-fellowship-gathering-4/
END:VEVENT
BEGIN:VEVENT
DTSTART;TZID=UTC:20200405T090000
DTEND;TZID=UTC:20200405T090000
DTSTAMP:20260422T181028
CREATED:20200224T011747Z
LAST-MODIFIED:20200224T011747Z
UID:481-1586077200-1586077200@gravelspringslutheran.org
SUMMARY:Worship Service with Holy Communion
DESCRIPTION:
URL:https://gravelspringslutheran.org/event/worship-service-with-holy-communion-18/
END:VEVENT
BEGIN:VEVENT
DTSTART;TZID=UTC:20200405T000000
DTEND;TZID=UTC:20200405T000000
DTSTAMP:20260422T181028
CREATED:20200224T011748Z
LAST-MODIFIED:20200224T011748Z
UID:484-1586044800-1586044800@gravelspringslutheran.org
SUMMARY:Palm Sunday
DESCRIPTION:
URL:https://gravelspringslutheran.org/event/palm-sunday/
END:VEVENT
BEGIN:VEVENT
DTSTART;TZID=UTC:20200329T101500
DTEND;TZID=UTC:20200329T101500
DTSTAMP:20260422T181028
CREATED:20200224T011745Z
LAST-MODIFIED:20200224T011745Z
UID:479-1585476900-1585476900@gravelspringslutheran.org
SUMMARY:Sunday School
DESCRIPTION:
URL:https://gravelspringslutheran.org/event/sunday-school-43/
END:VEVENT
BEGIN:VEVENT
DTSTART;TZID=UTC:20200329T090000
DTEND;TZID=UTC:20200329T090000
DTSTAMP:20260422T181028
CREATED:20200224T011745Z
LAST-MODIFIED:20200224T011745Z
UID:478-1585472400-1585472400@gravelspringslutheran.org
SUMMARY:Worship Service
DESCRIPTION:
URL:https://gravelspringslutheran.org/event/worship-service-30/
END:VEVENT
BEGIN:VEVENT
DTSTART;TZID=UTC:20200329T000000
DTEND;TZID=UTC:20200329T000000
DTSTAMP:20260422T181028
CREATED:20200224T011746Z
LAST-MODIFIED:20200224T011746Z
UID:480-1585440000-1585440000@gravelspringslutheran.org
SUMMARY:Bring A Friend Sunday
DESCRIPTION:
URL:https://gravelspringslutheran.org/event/bring-a-friend-sunday-3/
END:VEVENT
BEGIN:VEVENT
DTSTART;TZID=UTC:20200322T101500
DTEND;TZID=UTC:20200322T101500
DTSTAMP:20260422T181028
CREATED:20200224T011744Z
LAST-MODIFIED:20200224T011744Z
UID:477-1584872100-1584872100@gravelspringslutheran.org
SUMMARY:Sunday School
DESCRIPTION:
URL:https://gravelspringslutheran.org/event/sunday-school-42/
END:VEVENT
BEGIN:VEVENT
DTSTART;TZID=UTC:20200322T090000
DTEND;TZID=UTC:20200322T090000
DTSTAMP:20260422T181028
CREATED:20200224T011744Z
LAST-MODIFIED:20200224T011744Z
UID:476-1584867600-1584867600@gravelspringslutheran.org
SUMMARY:Worship Service
DESCRIPTION:
URL:https://gravelspringslutheran.org/event/worship-service-29/
END:VEVENT
BEGIN:VEVENT
DTSTART;TZID=UTC:20200321T163000
DTEND;TZID=UTC:20200321T183000
DTSTAMP:20260422T181028
CREATED:20200224T011740Z
LAST-MODIFIED:20200224T014111Z
UID:471-1584808200-1584815400@gravelspringslutheran.org
SUMMARY:Youth St. Patrick's Day Dinner
DESCRIPTION: 
URL:https://gravelspringslutheran.org/event/youth-st-patricks-day-dinner/
END:VEVENT
BEGIN:VEVENT
DTSTART;TZID=UTC:20200317T190000
DTEND;TZID=UTC:20200317T190000
DTSTAMP:20260422T181028
CREATED:20200224T011742Z
LAST-MODIFIED:20200224T011742Z
UID:475-1584471600-1584471600@gravelspringslutheran.org
SUMMARY:Ladies Aid Meeting
DESCRIPTION:
URL:https://gravelspringslutheran.org/event/ladies-aid-meeting-10/
END:VEVENT
BEGIN:VEVENT
DTSTART;TZID=UTC:20200315T101500
DTEND;TZID=UTC:20200315T101500
DTSTAMP:20260422T181028
CREATED:20200224T011741Z
LAST-MODIFIED:20200224T011741Z
UID:473-1584267300-1584267300@gravelspringslutheran.org
SUMMARY:Sunday School
DESCRIPTION:
URL:https://gravelspringslutheran.org/event/sunday-school-41/
END:VEVENT
BEGIN:VEVENT
DTSTART;TZID=UTC:20200315T090000
DTEND;TZID=UTC:20200315T090000
DTSTAMP:20260422T181028
CREATED:20200224T011741Z
LAST-MODIFIED:20200224T011741Z
UID:472-1584262800-1584262800@gravelspringslutheran.org
SUMMARY:Worship Service
DESCRIPTION:
URL:https://gravelspringslutheran.org/event/worship-service-28/
END:VEVENT
BEGIN:VEVENT
DTSTART;TZID=UTC:20200315T000000
DTEND;TZID=UTC:20200315T000000
DTSTAMP:20260422T181028
CREATED:20200224T011742Z
LAST-MODIFIED:20200224T011742Z
UID:474-1584230400-1584230400@gravelspringslutheran.org
SUMMARY:Noisy Collection
DESCRIPTION:
URL:https://gravelspringslutheran.org/event/noisy-collection-11/
END:VEVENT
BEGIN:VEVENT
DTSTART;TZID=UTC:20200308T101500
DTEND;TZID=UTC:20200308T101500
DTSTAMP:20260422T181028
CREATED:20200224T011738Z
LAST-MODIFIED:20200224T011738Z
UID:469-1583662500-1583662500@gravelspringslutheran.org
SUMMARY:Sunday School
DESCRIPTION:
URL:https://gravelspringslutheran.org/event/sunday-school-40/
END:VEVENT
BEGIN:VEVENT
DTSTART;TZID=UTC:20200308T090000
DTEND;TZID=UTC:20200308T090000
DTSTAMP:20260422T181028
CREATED:20200224T011738Z
LAST-MODIFIED:20200224T011738Z
UID:468-1583658000-1583658000@gravelspringslutheran.org
SUMMARY:Worship Service
DESCRIPTION:
URL:https://gravelspringslutheran.org/event/worship-service-27/
END:VEVENT
BEGIN:VEVENT
DTSTART;TZID=UTC:20200308T000000
DTEND;TZID=UTC:20200308T000000
DTSTAMP:20260422T181028
CREATED:20200224T011739Z
LAST-MODIFIED:20200224T011739Z
UID:470-1583625600-1583625600@gravelspringslutheran.org
SUMMARY:Cookies for College
DESCRIPTION:
URL:https://gravelspringslutheran.org/event/cookies-for-college-12/
END:VEVENT
BEGIN:VEVENT
DTSTART;TZID=UTC:20200303T180000
DTEND;TZID=UTC:20200303T180000
DTSTAMP:20260422T181028
CREATED:20200224T011738Z
LAST-MODIFIED:20200224T011738Z
UID:467-1583258400-1583258400@gravelspringslutheran.org
SUMMARY:Council Meeting
DESCRIPTION:
URL:https://gravelspringslutheran.org/event/council-meeting-3/
END:VEVENT
END:VCALENDAR