BEGIN:VCALENDAR
VERSION:2.0
PRODID:-//Gravel Springs Lutheran Church - ECPv6.15.13.1//NONSGML v1.0//EN
CALSCALE:GREGORIAN
METHOD:PUBLISH
X-WR-CALNAME:Gravel Springs Lutheran Church
X-ORIGINAL-URL:https://gravelspringslutheran.org
X-WR-CALDESC:Events for Gravel Springs Lutheran Church
REFRESH-INTERVAL;VALUE=DURATION:PT1H
X-Robots-Tag:noindex
X-PUBLISHED-TTL:PT1H
BEGIN:VTIMEZONE
TZID:UTC
BEGIN:STANDARD
TZOFFSETFROM:+0000
TZOFFSETTO:+0000
TZNAME:UTC
DTSTART:20190101T000000
END:STANDARD
END:VTIMEZONE
BEGIN:VEVENT
DTSTART;TZID=UTC:20200301T101500
DTEND;TZID=UTC:20200301T101500
DTSTAMP:20260422T184628
CREATED:20200224T011736Z
LAST-MODIFIED:20200224T011736Z
UID:465-1583057700-1583057700@gravelspringslutheran.org
SUMMARY:Sunday School
DESCRIPTION:
URL:https://gravelspringslutheran.org/event/sunday-school-39/
END:VEVENT
BEGIN:VEVENT
DTSTART;TZID=UTC:20200301T101500
DTEND;TZID=UTC:20200301T101500
DTSTAMP:20260422T184628
CREATED:20200224T011735Z
LAST-MODIFIED:20200224T011735Z
UID:464-1583057700-1583057700@gravelspringslutheran.org
SUMMARY:First Sunday Fellowship Gathering
DESCRIPTION:
URL:https://gravelspringslutheran.org/event/first-sunday-fellowship-gathering-3/
END:VEVENT
BEGIN:VEVENT
DTSTART;TZID=UTC:20200301T090000
DTEND;TZID=UTC:20200301T090000
DTSTAMP:20260422T184628
CREATED:20200224T011735Z
LAST-MODIFIED:20200224T011735Z
UID:463-1583053200-1583053200@gravelspringslutheran.org
SUMMARY:Worship Service with Holy Communion
DESCRIPTION:
URL:https://gravelspringslutheran.org/event/worship-service-with-holy-communion-17/
END:VEVENT
BEGIN:VEVENT
DTSTART;TZID=UTC:20200301T000000
DTEND;TZID=UTC:20200301T000000
DTSTAMP:20260422T184628
CREATED:20200224T011737Z
LAST-MODIFIED:20200224T011737Z
UID:466-1583020800-1583020800@gravelspringslutheran.org
SUMMARY:Lent Begins
DESCRIPTION:
URL:https://gravelspringslutheran.org/event/lent-begins/
END:VEVENT
BEGIN:VEVENT
DTSTART;TZID=UTC:20200226T190000
DTEND;TZID=UTC:20200226T190000
DTSTAMP:20260422T184628
CREATED:20200224T011735Z
LAST-MODIFIED:20200224T011735Z
UID:462-1582743600-1582743600@gravelspringslutheran.org
SUMMARY:Ash Wednesday Service at St. John's
DESCRIPTION:
URL:https://gravelspringslutheran.org/event/ash-wednesday-service-at-st-johns-2/
END:VEVENT
BEGIN:VEVENT
DTSTART;TZID=UTC:20200225T170000
DTEND;TZID=UTC:20200225T170000
DTSTAMP:20260422T184628
CREATED:20200224T011734Z
LAST-MODIFIED:20200224T011734Z
UID:461-1582650000-1582650000@gravelspringslutheran.org
SUMMARY:Shrove Tuesday Pancake Dinner
DESCRIPTION:
URL:https://gravelspringslutheran.org/event/shrove-tuesday-pancake-dinner-2/
END:VEVENT
BEGIN:VEVENT
DTSTART;TZID=UTC:20200223T101500
DTEND;TZID=UTC:20200223T101500
DTSTAMP:20260422T184628
CREATED:20200224T011732Z
LAST-MODIFIED:20200224T011732Z
UID:459-1582452900-1582452900@gravelspringslutheran.org
SUMMARY:Sunday School
DESCRIPTION:
URL:https://gravelspringslutheran.org/event/sunday-school-38/
END:VEVENT
BEGIN:VEVENT
DTSTART;TZID=UTC:20200223T090000
DTEND;TZID=UTC:20200223T090000
DTSTAMP:20260422T184628
CREATED:20200224T011732Z
LAST-MODIFIED:20200224T011732Z
UID:458-1582448400-1582448400@gravelspringslutheran.org
SUMMARY:Worship Service with Holy Communion
DESCRIPTION:
URL:https://gravelspringslutheran.org/event/worship-service-with-holy-communion-16/
END:VEVENT
BEGIN:VEVENT
DTSTART;TZID=UTC:20200223T000000
DTEND;TZID=UTC:20200223T000000
DTSTAMP:20260422T184628
CREATED:20200224T011733Z
LAST-MODIFIED:20200224T011733Z
UID:460-1582416000-1582416000@gravelspringslutheran.org
SUMMARY:Transfiguration Sunday
DESCRIPTION:
URL:https://gravelspringslutheran.org/event/transfiguration-sunday/
END:VEVENT
BEGIN:VEVENT
DTSTART;TZID=UTC:20200218T190000
DTEND;TZID=UTC:20200218T190000
DTSTAMP:20260422T184628
CREATED:20200224T011731Z
LAST-MODIFIED:20200224T011731Z
UID:457-1582052400-1582052400@gravelspringslutheran.org
SUMMARY:Ladies Aid Meeting
DESCRIPTION:
URL:https://gravelspringslutheran.org/event/ladies-aid-meeting-9/
END:VEVENT
BEGIN:VEVENT
DTSTART;TZID=UTC:20200216T101500
DTEND;TZID=UTC:20200216T101500
DTSTAMP:20260422T184628
CREATED:20200224T011731Z
LAST-MODIFIED:20200224T011731Z
UID:456-1581848100-1581848100@gravelspringslutheran.org
SUMMARY:Sunday School
DESCRIPTION:
URL:https://gravelspringslutheran.org/event/sunday-school-37/
END:VEVENT
BEGIN:VEVENT
DTSTART;TZID=UTC:20200216T090000
DTEND;TZID=UTC:20200216T090000
DTSTAMP:20260422T184628
CREATED:20200224T011729Z
LAST-MODIFIED:20200224T011729Z
UID:454-1581843600-1581843600@gravelspringslutheran.org
SUMMARY:Worship Service
DESCRIPTION:
URL:https://gravelspringslutheran.org/event/worship-service-26/
END:VEVENT
BEGIN:VEVENT
DTSTART;TZID=UTC:20200216T000000
DTEND;TZID=UTC:20200216T000000
DTSTAMP:20260422T184628
CREATED:20200224T011729Z
LAST-MODIFIED:20200224T011729Z
UID:455-1581811200-1581811200@gravelspringslutheran.org
SUMMARY:Noisy Collection
DESCRIPTION:
URL:https://gravelspringslutheran.org/event/noisy-collection-10/
END:VEVENT
BEGIN:VEVENT
DTSTART;TZID=UTC:20200209T101500
DTEND;TZID=UTC:20200209T101500
DTSTAMP:20260422T184628
CREATED:20200224T011728Z
LAST-MODIFIED:20200224T011728Z
UID:452-1581243300-1581243300@gravelspringslutheran.org
SUMMARY:Sunday School
DESCRIPTION:
URL:https://gravelspringslutheran.org/event/sunday-school-36/
END:VEVENT
BEGIN:VEVENT
DTSTART;TZID=UTC:20200209T090000
DTEND;TZID=UTC:20200209T090000
DTSTAMP:20260422T184628
CREATED:20200224T011727Z
LAST-MODIFIED:20200224T011727Z
UID:451-1581238800-1581238800@gravelspringslutheran.org
SUMMARY:Worship Service
DESCRIPTION:
URL:https://gravelspringslutheran.org/event/worship-service-25/
END:VEVENT
BEGIN:VEVENT
DTSTART;TZID=UTC:20200209T000000
DTEND;TZID=UTC:20200209T000000
DTSTAMP:20260422T184628
CREATED:20200224T011728Z
LAST-MODIFIED:20200224T011728Z
UID:453-1581206400-1581206400@gravelspringslutheran.org
SUMMARY:Cookies for College
DESCRIPTION:
URL:https://gravelspringslutheran.org/event/cookies-for-college-11/
END:VEVENT
BEGIN:VEVENT
DTSTART;TZID=UTC:20200204T180000
DTEND;TZID=UTC:20200204T180000
DTSTAMP:20260422T184628
CREATED:20200224T011726Z
LAST-MODIFIED:20200224T011726Z
UID:450-1580839200-1580839200@gravelspringslutheran.org
SUMMARY:Council Meeting
DESCRIPTION:
URL:https://gravelspringslutheran.org/event/council-meeting-2/
END:VEVENT
BEGIN:VEVENT
DTSTART;TZID=UTC:20200202T101500
DTEND;TZID=UTC:20200202T101500
DTSTAMP:20260422T184628
CREATED:20200224T011725Z
LAST-MODIFIED:20200224T011725Z
UID:448-1580638500-1580638500@gravelspringslutheran.org
SUMMARY:First Sunday Fellowship Gathering
DESCRIPTION:
URL:https://gravelspringslutheran.org/event/first-sunday-fellowship-gathering-2/
END:VEVENT
BEGIN:VEVENT
DTSTART;TZID=UTC:20200202T101500
DTEND;TZID=UTC:20200202T101500
DTSTAMP:20260422T184628
CREATED:20200224T011725Z
LAST-MODIFIED:20200224T011725Z
UID:449-1580638500-1580638500@gravelspringslutheran.org
SUMMARY:Sunday School
DESCRIPTION:
URL:https://gravelspringslutheran.org/event/sunday-school-35/
END:VEVENT
BEGIN:VEVENT
DTSTART;TZID=UTC:20200202T090000
DTEND;TZID=UTC:20200202T090000
DTSTAMP:20260422T184628
CREATED:20200224T011725Z
LAST-MODIFIED:20200224T011725Z
UID:447-1580634000-1580634000@gravelspringslutheran.org
SUMMARY:Worship Service with Holy Communion
DESCRIPTION:
URL:https://gravelspringslutheran.org/event/worship-service-with-holy-communion-15/
END:VEVENT
BEGIN:VEVENT
DTSTART;TZID=UTC:20200126T090000
DTEND;TZID=UTC:20200126T090000
DTSTAMP:20260422T184628
CREATED:20200224T011724Z
LAST-MODIFIED:20200224T011724Z
UID:446-1580029200-1580029200@gravelspringslutheran.org
SUMMARY:Worship Service
DESCRIPTION:
URL:https://gravelspringslutheran.org/event/worship-service-24/
END:VEVENT
BEGIN:VEVENT
DTSTART;TZID=UTC:20200121T190000
DTEND;TZID=UTC:20200121T190000
DTSTAMP:20260422T184628
CREATED:20200224T011722Z
LAST-MODIFIED:20200224T011722Z
UID:445-1579633200-1579633200@gravelspringslutheran.org
SUMMARY:Ladies Aid Meeting
DESCRIPTION:
URL:https://gravelspringslutheran.org/event/ladies-aid-meeting-8/
END:VEVENT
BEGIN:VEVENT
DTSTART;TZID=UTC:20200119T124500
DTEND;TZID=UTC:20200119T124500
DTSTAMP:20260422T184628
CREATED:20200224T011721Z
LAST-MODIFIED:20200224T011721Z
UID:444-1579437900-1579437900@gravelspringslutheran.org
SUMMARY:Joint Council Meeting at St. John's
DESCRIPTION:
URL:https://gravelspringslutheran.org/event/joint-council-meeting-at-st-johns/
END:VEVENT
BEGIN:VEVENT
DTSTART;TZID=UTC:20200119T101500
DTEND;TZID=UTC:20200119T101500
DTSTAMP:20260422T184628
CREATED:20200224T011721Z
LAST-MODIFIED:20200224T011721Z
UID:443-1579428900-1579428900@gravelspringslutheran.org
SUMMARY:Sunday School
DESCRIPTION:
URL:https://gravelspringslutheran.org/event/sunday-school-34/
END:VEVENT
BEGIN:VEVENT
DTSTART;TZID=UTC:20200119T090000
DTEND;TZID=UTC:20200119T090000
DTSTAMP:20260422T184628
CREATED:20200224T011720Z
LAST-MODIFIED:20200224T011720Z
UID:441-1579424400-1579424400@gravelspringslutheran.org
SUMMARY:Worship Service
DESCRIPTION:
URL:https://gravelspringslutheran.org/event/worship-service-23/
END:VEVENT
BEGIN:VEVENT
DTSTART;TZID=UTC:20200119T000000
DTEND;TZID=UTC:20200119T000000
DTSTAMP:20260422T184628
CREATED:20200224T011721Z
LAST-MODIFIED:20200224T011721Z
UID:442-1579392000-1579392000@gravelspringslutheran.org
SUMMARY:Noisy Collection
DESCRIPTION:
URL:https://gravelspringslutheran.org/event/noisy-collection-9/
END:VEVENT
BEGIN:VEVENT
DTSTART;TZID=UTC:20200112T101500
DTEND;TZID=UTC:20200112T101500
DTSTAMP:20260422T184628
CREATED:20200224T011718Z
LAST-MODIFIED:20200224T011718Z
UID:438-1578824100-1578824100@gravelspringslutheran.org
SUMMARY:Sunday School
DESCRIPTION:
URL:https://gravelspringslutheran.org/event/sunday-school-33/
END:VEVENT
BEGIN:VEVENT
DTSTART;TZID=UTC:20200112T090000
DTEND;TZID=UTC:20200112T090000
DTSTAMP:20260422T184628
CREATED:20200224T011717Z
LAST-MODIFIED:20200224T011717Z
UID:437-1578819600-1578819600@gravelspringslutheran.org
SUMMARY:Worship Service with Holy Communion
DESCRIPTION:
URL:https://gravelspringslutheran.org/event/worship-service-with-holy-communion-14/
END:VEVENT
BEGIN:VEVENT
DTSTART;TZID=UTC:20200112T000000
DTEND;TZID=UTC:20200112T000000
DTSTAMP:20260422T184628
CREATED:20200224T011718Z
LAST-MODIFIED:20200224T011718Z
UID:439-1578787200-1578787200@gravelspringslutheran.org
SUMMARY:Cookies for College
DESCRIPTION:
URL:https://gravelspringslutheran.org/event/cookies-for-college-10/
END:VEVENT
BEGIN:VEVENT
DTSTART;TZID=UTC:20200112T000000
DTEND;TZID=UTC:20200112T000000
DTSTAMP:20260422T184628
CREATED:20200224T011718Z
LAST-MODIFIED:20200224T011718Z
UID:440-1578787200-1578787200@gravelspringslutheran.org
SUMMARY:Baptism of our Lord Sunday
DESCRIPTION:
URL:https://gravelspringslutheran.org/event/baptism-of-our-lord-sunday/
END:VEVENT
END:VCALENDAR