BEGIN:VCALENDAR
VERSION:2.0
PRODID:-//Gravel Springs Lutheran Church - ECPv6.15.13.1//NONSGML v1.0//EN
CALSCALE:GREGORIAN
METHOD:PUBLISH
X-WR-CALNAME:Gravel Springs Lutheran Church
X-ORIGINAL-URL:https://gravelspringslutheran.org
X-WR-CALDESC:Events for Gravel Springs Lutheran Church
REFRESH-INTERVAL;VALUE=DURATION:PT1H
X-Robots-Tag:noindex
X-PUBLISHED-TTL:PT1H
BEGIN:VTIMEZONE
TZID:UTC
BEGIN:STANDARD
TZOFFSETFROM:+0000
TZOFFSETTO:+0000
TZNAME:UTC
DTSTART:20180101T000000
END:STANDARD
END:VTIMEZONE
BEGIN:VEVENT
DTSTART;TZID=UTC:20200112T000000
DTEND;TZID=UTC:20200112T000000
DTSTAMP:20260422T181639
CREATED:20200224T011718Z
LAST-MODIFIED:20200224T011718Z
UID:439-1578787200-1578787200@gravelspringslutheran.org
SUMMARY:Cookies for College
DESCRIPTION:
URL:https://gravelspringslutheran.org/event/cookies-for-college-10/
END:VEVENT
BEGIN:VEVENT
DTSTART;TZID=UTC:20200112T000000
DTEND;TZID=UTC:20200112T000000
DTSTAMP:20260422T181639
CREATED:20200224T011718Z
LAST-MODIFIED:20200224T011718Z
UID:440-1578787200-1578787200@gravelspringslutheran.org
SUMMARY:Baptism of our Lord Sunday
DESCRIPTION:
URL:https://gravelspringslutheran.org/event/baptism-of-our-lord-sunday/
END:VEVENT
BEGIN:VEVENT
DTSTART;TZID=UTC:20200110T180000
DTEND;TZID=UTC:20200110T180000
DTSTAMP:20260422T181639
CREATED:20200224T011717Z
LAST-MODIFIED:20200224T011717Z
UID:436-1578679200-1578679200@gravelspringslutheran.org
SUMMARY:Youth Group Meeting
DESCRIPTION:
URL:https://gravelspringslutheran.org/event/youth-group-meeting/
END:VEVENT
BEGIN:VEVENT
DTSTART;TZID=UTC:20200107T180000
DTEND;TZID=UTC:20200107T180000
DTSTAMP:20260422T181639
CREATED:20200224T011714Z
LAST-MODIFIED:20200224T011714Z
UID:435-1578420000-1578420000@gravelspringslutheran.org
SUMMARY:Council Meeting
DESCRIPTION:
URL:https://gravelspringslutheran.org/event/council-meeting/
END:VEVENT
BEGIN:VEVENT
DTSTART;TZID=UTC:20200106T000000
DTEND;TZID=UTC:20200106T000000
DTSTAMP:20260422T181639
CREATED:20200224T011714Z
LAST-MODIFIED:20200224T011714Z
UID:434-1578268800-1578268800@gravelspringslutheran.org
SUMMARY:Epiphany Begins
DESCRIPTION:
URL:https://gravelspringslutheran.org/event/epiphany-begins/
END:VEVENT
BEGIN:VEVENT
DTSTART;TZID=UTC:20200105T101500
DTEND;TZID=UTC:20200105T101500
DTSTAMP:20260422T181639
CREATED:20200224T011713Z
LAST-MODIFIED:20200224T011713Z
UID:433-1578219300-1578219300@gravelspringslutheran.org
SUMMARY:Sunday School
DESCRIPTION:
URL:https://gravelspringslutheran.org/event/sunday-school-32/
END:VEVENT
BEGIN:VEVENT
DTSTART;TZID=UTC:20200105T101500
DTEND;TZID=UTC:20200105T101500
DTSTAMP:20260422T181639
CREATED:20200224T011713Z
LAST-MODIFIED:20200224T011713Z
UID:432-1578219300-1578219300@gravelspringslutheran.org
SUMMARY:First Sunday Fellowship Gathering
DESCRIPTION:
URL:https://gravelspringslutheran.org/event/first-sunday-fellowship-gathering/
END:VEVENT
BEGIN:VEVENT
DTSTART;TZID=UTC:20200105T090000
DTEND;TZID=UTC:20200105T090000
DTSTAMP:20260422T181639
CREATED:20200224T011712Z
LAST-MODIFIED:20200224T011712Z
UID:431-1578214800-1578214800@gravelspringslutheran.org
SUMMARY:Worship Service with Holy Communion
DESCRIPTION:
URL:https://gravelspringslutheran.org/event/worship-service-with-holy-communion-13/
END:VEVENT
BEGIN:VEVENT
DTSTART;TZID=UTC:20191229T101500
DTEND;TZID=UTC:20191229T101500
DTSTAMP:20260422T181639
CREATED:20190901T015421Z
LAST-MODIFIED:20190901T015421Z
UID:425-1577614500-1577614500@gravelspringslutheran.org
SUMMARY:Sunday School
DESCRIPTION:
URL:https://gravelspringslutheran.org/event/sunday-school-31/
END:VEVENT
BEGIN:VEVENT
DTSTART;TZID=UTC:20191229T090000
DTEND;TZID=UTC:20191229T090000
DTSTAMP:20260422T181639
CREATED:20190901T015420Z
LAST-MODIFIED:20190901T015420Z
UID:424-1577610000-1577610000@gravelspringslutheran.org
SUMMARY:Worship Service of Lessons and Carols
DESCRIPTION:
URL:https://gravelspringslutheran.org/event/worship-service-of-lessons-and-carols/
END:VEVENT
BEGIN:VEVENT
DTSTART;TZID=UTC:20191229T000000
DTEND;TZID=UTC:20191229T000000
DTSTAMP:20260422T181639
CREATED:20190901T015421Z
LAST-MODIFIED:20190901T015421Z
UID:426-1577577600-1577577600@gravelspringslutheran.org
SUMMARY:Bring A Friend Sunday
DESCRIPTION:
URL:https://gravelspringslutheran.org/event/bring-a-friend-sunday-2/
END:VEVENT
BEGIN:VEVENT
DTSTART;TZID=UTC:20191224T210000
DTEND;TZID=UTC:20191224T210000
DTSTAMP:20260422T181639
CREATED:20190901T015419Z
LAST-MODIFIED:20190901T015419Z
UID:423-1577221200-1577221200@gravelspringslutheran.org
SUMMARY:Christmas Eve Candlelight Service with Holy Communion
DESCRIPTION:
URL:https://gravelspringslutheran.org/event/christmas-eve-candlelight-service-with-holy-communion/
END:VEVENT
BEGIN:VEVENT
DTSTART;TZID=UTC:20191222T180000
DTEND;TZID=UTC:20191222T180000
DTSTAMP:20260422T181639
CREATED:20190901T015419Z
LAST-MODIFIED:20190901T015419Z
UID:422-1577037600-1577037600@gravelspringslutheran.org
SUMMARY:Children's Christmas Program
DESCRIPTION:
URL:https://gravelspringslutheran.org/event/childrens-christmas-program/
END:VEVENT
BEGIN:VEVENT
DTSTART;TZID=UTC:20191222T101500
DTEND;TZID=UTC:20191222T101500
DTSTAMP:20260422T181639
CREATED:20190901T015417Z
LAST-MODIFIED:20190901T015417Z
UID:421-1577009700-1577009700@gravelspringslutheran.org
SUMMARY:Sunday School
DESCRIPTION:
URL:https://gravelspringslutheran.org/event/sunday-school-30/
END:VEVENT
BEGIN:VEVENT
DTSTART;TZID=UTC:20191222T090000
DTEND;TZID=UTC:20191222T090000
DTSTAMP:20260422T181639
CREATED:20190901T015416Z
LAST-MODIFIED:20190901T015416Z
UID:420-1577005200-1577005200@gravelspringslutheran.org
SUMMARY:Worship Service
DESCRIPTION:
URL:https://gravelspringslutheran.org/event/worship-service-22/
END:VEVENT
BEGIN:VEVENT
DTSTART;TZID=UTC:20191221T180000
DTEND;TZID=UTC:20191221T180000
DTSTAMP:20260422T181639
CREATED:20190901T015416Z
LAST-MODIFIED:20190901T015416Z
UID:419-1576951200-1576951200@gravelspringslutheran.org
SUMMARY:Mocha and a Message and Bingo at St. John's
DESCRIPTION:
URL:https://gravelspringslutheran.org/event/mocha-and-a-message-and-bingo-at-st-johns-6/
END:VEVENT
BEGIN:VEVENT
DTSTART;TZID=UTC:20191215T101500
DTEND;TZID=UTC:20191215T101500
DTSTAMP:20260422T181639
CREATED:20190901T015415Z
LAST-MODIFIED:20190901T015415Z
UID:417-1576404900-1576404900@gravelspringslutheran.org
SUMMARY:Sunday School
DESCRIPTION:
URL:https://gravelspringslutheran.org/event/sunday-school-29/
END:VEVENT
BEGIN:VEVENT
DTSTART;TZID=UTC:20191215T090000
DTEND;TZID=UTC:20191215T090000
DTSTAMP:20260422T181639
CREATED:20190901T015413Z
LAST-MODIFIED:20190901T015413Z
UID:416-1576400400-1576400400@gravelspringslutheran.org
SUMMARY:Worship Service
DESCRIPTION:
URL:https://gravelspringslutheran.org/event/worship-service-21/
END:VEVENT
BEGIN:VEVENT
DTSTART;TZID=UTC:20191215T000000
DTEND;TZID=UTC:20191215T000000
DTSTAMP:20260422T181639
CREATED:20190901T015415Z
LAST-MODIFIED:20190901T015415Z
UID:418-1576368000-1576368000@gravelspringslutheran.org
SUMMARY:Noisy Collection
DESCRIPTION:
URL:https://gravelspringslutheran.org/event/noisy-collection-8/
END:VEVENT
BEGIN:VEVENT
DTSTART;TZID=UTC:20191208T101500
DTEND;TZID=UTC:20191208T101500
DTSTAMP:20260422T181639
CREATED:20190901T015412Z
LAST-MODIFIED:20190901T015412Z
UID:414-1575800100-1575800100@gravelspringslutheran.org
SUMMARY:Sunday School
DESCRIPTION:
URL:https://gravelspringslutheran.org/event/sunday-school-28/
END:VEVENT
BEGIN:VEVENT
DTSTART;TZID=UTC:20191208T090000
DTEND;TZID=UTC:20191208T090000
DTSTAMP:20260422T181639
CREATED:20190901T015411Z
LAST-MODIFIED:20190901T015411Z
UID:413-1575795600-1575795600@gravelspringslutheran.org
SUMMARY:Worship Service
DESCRIPTION:
URL:https://gravelspringslutheran.org/event/worship-service-20/
END:VEVENT
BEGIN:VEVENT
DTSTART;TZID=UTC:20191208T000000
DTEND;TZID=UTC:20191208T000000
DTSTAMP:20260422T181639
CREATED:20190901T015412Z
LAST-MODIFIED:20190901T015412Z
UID:415-1575763200-1575763200@gravelspringslutheran.org
SUMMARY:Cookies for College
DESCRIPTION:
URL:https://gravelspringslutheran.org/event/cookies-for-college-9/
END:VEVENT
BEGIN:VEVENT
DTSTART;TZID=UTC:20191203T180000
DTEND;TZID=UTC:20191203T180000
DTSTAMP:20260422T181639
CREATED:20190901T015411Z
LAST-MODIFIED:20190901T015411Z
UID:412-1575396000-1575396000@gravelspringslutheran.org
SUMMARY:Gravel Spring Council Meeting
DESCRIPTION:
URL:https://gravelspringslutheran.org/event/gravel-spring-council-meeting-4/
END:VEVENT
BEGIN:VEVENT
DTSTART;TZID=UTC:20191201T101500
DTEND;TZID=UTC:20191201T101500
DTSTAMP:20260422T181639
CREATED:20190901T015408Z
LAST-MODIFIED:20190901T015408Z
UID:411-1575195300-1575195300@gravelspringslutheran.org
SUMMARY:Confirmation Class
DESCRIPTION:
URL:https://gravelspringslutheran.org/event/confirmation-class-3/
END:VEVENT
BEGIN:VEVENT
DTSTART;TZID=UTC:20191201T101500
DTEND;TZID=UTC:20191201T101500
DTSTAMP:20260422T181639
CREATED:20190901T015408Z
LAST-MODIFIED:20190901T015408Z
UID:410-1575195300-1575195300@gravelspringslutheran.org
SUMMARY:First Sunday Fellowship
DESCRIPTION:
URL:https://gravelspringslutheran.org/event/first-sunday-fellowship-4/
END:VEVENT
BEGIN:VEVENT
DTSTART;TZID=UTC:20191201T101500
DTEND;TZID=UTC:20191201T101500
DTSTAMP:20260422T181639
CREATED:20190901T015407Z
LAST-MODIFIED:20190901T015407Z
UID:409-1575195300-1575195300@gravelspringslutheran.org
SUMMARY:Sunday School
DESCRIPTION:
URL:https://gravelspringslutheran.org/event/sunday-school-27/
END:VEVENT
BEGIN:VEVENT
DTSTART;TZID=UTC:20191201T090000
DTEND;TZID=UTC:20191201T090000
DTSTAMP:20260422T181639
CREATED:20190901T015407Z
LAST-MODIFIED:20190901T015407Z
UID:408-1575190800-1575190800@gravelspringslutheran.org
SUMMARY:Worship Service with Holy Communion - All Saints Sunday
DESCRIPTION:
URL:https://gravelspringslutheran.org/event/worship-service-with-holy-communion-all-saints-sunday-2/
END:VEVENT
BEGIN:VEVENT
DTSTART;TZID=UTC:20191124T101500
DTEND;TZID=UTC:20191124T101500
DTSTAMP:20260422T181639
CREATED:20190901T015406Z
LAST-MODIFIED:20190901T015406Z
UID:407-1574590500-1574590500@gravelspringslutheran.org
SUMMARY:Sunday School
DESCRIPTION:
URL:https://gravelspringslutheran.org/event/sunday-school-26/
END:VEVENT
BEGIN:VEVENT
DTSTART;TZID=UTC:20191124T090000
DTEND;TZID=UTC:20191124T090000
DTSTAMP:20260422T181640
CREATED:20190901T015404Z
LAST-MODIFIED:20190901T015404Z
UID:406-1574586000-1574586000@gravelspringslutheran.org
SUMMARY:Worship Service
DESCRIPTION:
URL:https://gravelspringslutheran.org/event/worship-service-19/
END:VEVENT
BEGIN:VEVENT
DTSTART;TZID=UTC:20191119T190000
DTEND;TZID=UTC:20191119T190000
DTSTAMP:20260422T181640
CREATED:20190901T015403Z
LAST-MODIFIED:20190901T015403Z
UID:405-1574190000-1574190000@gravelspringslutheran.org
SUMMARY:Ladies Aid Meeting
DESCRIPTION:
URL:https://gravelspringslutheran.org/event/ladies-aid-meeting-7/
END:VEVENT
END:VCALENDAR